BEGIN:VCALENDAR
VERSION:2.0
PRODID:-//Fuschia Virtual Employee - ECPv5.1.6//NONSGML v1.0//EN
CALSCALE:GREGORIAN
METHOD:PUBLISH
X-WR-CALNAME:Fuschia Virtual Employee
X-ORIGINAL-URL:http://fuschia-virtual.com
X-WR-CALDESC:Events for Fuschia Virtual Employee
BEGIN:VTIMEZONE
TZID:UTC
BEGIN:STANDARD
TZOFFSETFROM:+0000
TZOFFSETTO:+0000
TZNAME:UTC
DTSTART:20190101T000000
END:STANDARD
END:VTIMEZONE
BEGIN:VEVENT
DTSTART;TZID=UTC:20190615T120000
DTEND;TZID=UTC:20190615T120000
DTSTAMP:20260419T221809
CREATED:20180517T075411Z
LAST-MODIFIED:20180517T075411Z
UID:566-1560600000-1560600000@fuschia-virtual.com
SUMMARY:Board Meeting
DESCRIPTION:I have traced the Rebel spies to her. Now she is my only link to finding their secret base. What?! I care. So\, what do you think of her\, Han? The Force is strong with this one. I have you now. But with the blast shield down\, I can’t even see! How am I supposed to fight? Red Five standing by.
URL:http://fuschia-virtual.com/event/board-meeting/
LOCATION:Musee D’Orsay\, 1 Rue de la Légion d'Honneur\, Paris\, 75007\, France
CATEGORIES:Meeting
END:VEVENT
END:VCALENDAR