BEGIN:VCALENDAR
VERSION:2.0
PRODID:-//Fuschia Virtual Employee - ECPv5.1.6//NONSGML v1.0//EN
CALSCALE:GREGORIAN
METHOD:PUBLISH
X-WR-CALNAME:Fuschia Virtual Employee
X-ORIGINAL-URL:http://fuschia-virtual.com
X-WR-CALDESC:Events for Fuschia Virtual Employee
BEGIN:VTIMEZONE
TZID:UTC
BEGIN:STANDARD
TZOFFSETFROM:+0000
TZOFFSETTO:+0000
TZNAME:UTC
DTSTART:20180101T000000
END:STANDARD
END:VTIMEZONE
BEGIN:VEVENT
DTSTART;TZID=UTC:20180707T133000
DTEND;TZID=UTC:20180707T133000
DTSTAMP:20260420T005140
CREATED:20180517T075410Z
LAST-MODIFIED:20180517T075410Z
UID:565-1530970200-1530970200@fuschia-virtual.com
SUMMARY:Cupcake Decorating
DESCRIPTION:Oh God\, my uncle. How am I ever gonna explain this? The plans you refer to will soon be back in our hands. I suggest you try it again\, Luke. This time\, let go your conscious self and act on instinct. I want to come with you to Alderaan. There’s nothing for me here now. I want to learn the ways of the Force and be a Jedi\, like my father before me. As you wish. I don’t know what you’re talking about. I am a member of the Imperial Senate on a diplomatic mission to Alderaan–
URL:http://fuschia-virtual.com/event/cupcake-decorating/
LOCATION:The Corn Palace\, 601 N Main St\, Mitchell\, SD\, 57301\, United States
CATEGORIES:Family Fun
ORGANIZER;CN="Sammy%20Sosa":MAILTO:baseball@hotmail.com
END:VEVENT
END:VCALENDAR