BEGIN:VCALENDAR
VERSION:2.0
PRODID:-//Fuschia Virtual Employee - ECPv5.1.6//NONSGML v1.0//EN
CALSCALE:GREGORIAN
METHOD:PUBLISH
X-WR-CALNAME:Fuschia Virtual Employee
X-ORIGINAL-URL:http://fuschia-virtual.com
X-WR-CALDESC:Events for Fuschia Virtual Employee
BEGIN:VTIMEZONE
TZID:UTC
BEGIN:STANDARD
TZOFFSETFROM:+0000
TZOFFSETTO:+0000
TZNAME:UTC
DTSTART:20180101T000000
END:STANDARD
END:VTIMEZONE
BEGIN:VEVENT
DTSTART;VALUE=DATE:20180824
DTEND;VALUE=DATE:20180825
DTSTAMP:20260419T233719
CREATED:20180517T075412Z
LAST-MODIFIED:20180517T075412Z
UID:569-1535068800-1535155199@fuschia-virtual.com
SUMMARY:Farmer’s Market
DESCRIPTION:Who’s that then? Shh! Knights\, I bid you welcome to your new home. Let us ride to Camelot! Ah\, now we see the violence inherent in the system! The Lady of the Lake\, her arm clad in the purest shimmering samite\, held aloft Excalibur from the bosom of the water\, signifying by divine providence that I\, Arthur\, was to carry Excalibur. That is why I am your king. Camelot!
URL:http://fuschia-virtual.com/event/farmers-market/
LOCATION:Bamboo Fresh\, 655 Front St. #108\, Lahaina\, HI\, 96761\, United States
CATEGORIES:Family Fun
END:VEVENT
END:VCALENDAR