BEGIN:VCALENDAR
VERSION:2.0
PRODID:-//Fuschia Virtual Employee - ECPv5.1.6//NONSGML v1.0//EN
CALSCALE:GREGORIAN
METHOD:PUBLISH
X-WR-CALNAME:Fuschia Virtual Employee
X-ORIGINAL-URL:http://fuschia-virtual.com
X-WR-CALDESC:Events for Fuschia Virtual Employee
BEGIN:VTIMEZONE
TZID:UTC
BEGIN:STANDARD
TZOFFSETFROM:+0000
TZOFFSETTO:+0000
TZNAME:UTC
DTSTART:20180101T000000
END:STANDARD
END:VTIMEZONE
BEGIN:VEVENT
DTSTART;VALUE=DATE:20180701
DTEND;VALUE=DATE:20180702
DTSTAMP:20260419T233435
CREATED:20180517T075406Z
LAST-MODIFIED:20180517T075406Z
UID:563-1530403200-1530489599@fuschia-virtual.com
SUMMARY:Kitten Adoption Day
DESCRIPTION:I’ve done everything the Bible says — even the stuff that contradicts the other stuff! Our differences are only skin deep\, but our sames go down to the bone. And now\, in the spirit of the season: start shopping. And for every dollar of Krusty merchandise you buy\, I will be nice to a sick kid. For legal purposes\, sick kids may include hookers with a cold. And here I am using my own lungs like a sucker. What good is money if it can’t inspire terror in your fellow man? Homer no function beer well without.
URL:http://fuschia-virtual.com/event/kitten-adoption-day/
LOCATION:Winchester Mystery House\, 525 S Winchester Blvd\, San Jose\, CA\, 95128\, United States
CATEGORIES:Family Fun
ORGANIZER;CN="Barney%20Stinson":MAILTO:barney@legendary.com
END:VEVENT
END:VCALENDAR