BEGIN:VCALENDAR
VERSION:2.0
PRODID:-//Fuschia Virtual Employee - ECPv5.1.6//NONSGML v1.0//EN
CALSCALE:GREGORIAN
METHOD:PUBLISH
X-WR-CALNAME:Fuschia Virtual Employee
X-ORIGINAL-URL:http://fuschia-virtual.com
X-WR-CALDESC:Events for Fuschia Virtual Employee
BEGIN:VTIMEZONE
TZID:UTC
BEGIN:STANDARD
TZOFFSETFROM:+0000
TZOFFSETTO:+0000
TZNAME:UTC
DTSTART:20180101T000000
END:STANDARD
END:VTIMEZONE
BEGIN:VEVENT
DTSTART;TZID=UTC:20180814T100000
DTEND;TZID=UTC:20180814T100000
DTSTAMP:20260419T233636
CREATED:20180517T075405Z
LAST-MODIFIED:20180517T075405Z
UID:562-1534240800-1534240800@fuschia-virtual.com
SUMMARY:Movie Marathon
DESCRIPTION:What’s the point of going out? We’re just going to wind up back here anyway. I’m going to the back seat of my car\, with the woman I love\, and I won’t be back for ten minutes! And now\, in the spirit of the season: start shopping. And for every dollar of Krusty merchandise you buy\, I will be nice to a sick kid. For legal purposes\, sick kids may include hookers with a cold. The Internet King? I wonder if he could provide faster nudity… Yes! I am a citizen! Now which way to the welfare office? I’m kidding\, I’m kidding. I work\, I work.
URL:http://fuschia-virtual.com/event/movie-marathon/
LOCATION:Winchester Mystery House\, 525 S Winchester Blvd\, San Jose\, CA\, 95128\, United States
CATEGORIES:Family Fun
END:VEVENT
END:VCALENDAR