BEGIN:VCALENDAR
VERSION:2.0
PRODID:-//Fuschia Virtual Employee - ECPv5.1.6//NONSGML v1.0//EN
CALSCALE:GREGORIAN
METHOD:PUBLISH
X-WR-CALNAME:Fuschia Virtual Employee
X-ORIGINAL-URL:http://fuschia-virtual.com
X-WR-CALDESC:Events for Fuschia Virtual Employee
BEGIN:VTIMEZONE
TZID:UTC
BEGIN:STANDARD
TZOFFSETFROM:+0000
TZOFFSETTO:+0000
TZNAME:UTC
DTSTART:20180101T000000
END:STANDARD
END:VTIMEZONE
BEGIN:VEVENT
DTSTART;TZID=UTC:20180723T170000
DTEND;TZID=UTC:20180723T170000
DTSTAMP:20260419T233421
CREATED:20180517T075406Z
LAST-MODIFIED:20180517T075406Z
UID:564-1532365200-1532365200@fuschia-virtual.com
SUMMARY:Weekend Long Adventure
DESCRIPTION:Dear Mr. President\, There are too many states nowadays. Please\, eliminate three. P.S. I am not a crackpot. You don’t win friends with salad. I’m a Spalding Gray in a Rick Dees world. D’oh. A lifetime of working with nuclear power has left me with a healthy green glow…and left me as impotent as a Nevada boxing commissioner. No children have ever meddled with the Republican Party and lived to tell about it.
URL:http://fuschia-virtual.com/event/weekend-long-adventure/
LOCATION:Cambridge University Library\, West Road\, Cambridge\, CB3 9DR\, United Kingdom
CATEGORIES:Family Fun
ORGANIZER;CN="Sammy%20Sosa":MAILTO:baseball@hotmail.com
END:VEVENT
END:VCALENDAR